BEGIN:VCALENDAR
VERSION:2.0
PRODID:-//CASNews//Veranstaltungskalender//DE
CALSCALE:GREGORIAN
METHOD:PUBLISH
X-WR-CALNAME:CASNews Veranstaltungen
X-WR-TIMEZONE:Europe/Berlin
BEGIN:VTIMEZONE
TZID:Europe/Berlin
BEGIN:DAYLIGHT
TZOFFSETFROM:+0100
TZOFFSETTO:+0200
DTSTART:19700329T020000
RRULE:FREQ=YEARLY;BYMONTH=3;BYDAY=-1SU
END:DAYLIGHT
BEGIN:STANDARD
TZOFFSETFROM:+0200
TZOFFSETTO:+0100
DTSTART:19701025T030000
RRULE:FREQ=YEARLY;BYMONTH=10;BYDAY=-1SU
END:STANDARD
END:VTIMEZONE
BEGIN:VEVENT
UID:event-31@casnews.de
DTSTAMP:20260420T042644Z
DTSTART:20260421T140000
DTEND:20260421T170000
SUMMARY:Musikalische Erinnerungsreise im Erzählcafé
DESCRIPTION:Castrop-Rauxel wird 100 Jahre alt. Anlässlich dieses Geburtstages laden das Beratungs- und Infocenter Pflege (BIP) und die Altenhilfekoordination der Stadt Castrop-Rauxel alle Interessierten am Dienstag\, 21. April\, von 14.00 bis 17.00 Uhr herzlich zu einem ganz besonderen Treffen des Erzählcafés in den Treffpunkt Vielfalt auf Schwerin\, Bodelschwingher Straße 35\, ein.\n\n \n\nMusik ist ein Schlüssel zu Erinnerungen – sie begleitet Menschen ein Leben lang und verbindet persönliche Erlebnisse mit der Geschichte einer Stadt. Unter dem Titel „Musikalische Erinnerungsreise durch 100 Jahre Stadtgeschichte lädt das Erzählcafé am 21. April dazu ein\, gemeinsam in die musikalische Vergangenheit Castrop-Rauxels einzutauchen.\n\n \n\nDer Musiker Karl-Heinz Schipper lässt mit seiner Gitarre Lieder aus verschiedenen Jahrzehnten lebendig werden und schafft damit den stimmungsvollen Rahmen für einen Nachmittag voller Gemeinschaft\, Nostalgie und lebendiger Erinnerungen. Auf dem Programm stehen Schlager\, Volkslieder sowie typische Ruhrgebiets- und Bergmannslieder – Musik\, die Generationen geprägt hat und viele persönliche Geschichten wachruft.\n\n \n\nDie Besucherinnen und Besucher sind eingeladen\, sich von der Musik zu persönlichen Erinnerungen an gemeinsame Feiern in Castrop-Rauxel anregen zu lassen und diese miteinander zu teilen. Im Mittelpunkt steht der Rückblick auf Tanzveranstaltungen\, Vereinsfeste und die Kirmes sowie auf die lebendige Kneipenkultur und jene Orte\, an denen man sich traf\, lachte und gemeinsam feierte. Erinnerungen an Hochzeiten\, Schützenfeste\, Karneval und andere besondere Anlässe zeigen dabei eindrucksvoll\, welche bedeutende Rolle Musik für Gemeinschaft und Zusammenhalt in der Stadt gespielt hat.\n\n \n\nDas Erzählcafé bietet eine offene und herzliche Atmosphäre für alle Generationen zum Zuhören\, Erzählen und gemeinsamen Erinnern. Ziel ist es\, die Geschichte der Stadt lebendig zu halten und den Austausch zwischen den Menschen zu fördern. Neben frisch gebrühtem Kaffee gibt es auch eine bunte Auswahl an klassischen Kuchen aus den letzten Jahrzehnten. Außerdem lädt auch die Ausstellung „100 Jahre Castrop-Rauxel“ zum Entdecken und Verweilen ein.\n\n \n\nNeugierige Neuzugänge sind herzlich willkommen. Der städtische Altenhilfekoordinator Frank Trzeziak möchte Bürgerinnen und Bürger ermutigen\, sich am Erzählcafé zu beteiligen. Das offene Angebot findet regelmäßig statt und ist kostenlos. An- oder Abmeldungen sind nicht erforderlich. Weitere Informationen erhalten Interessierte telefonisch unter 02305 / 106-2582 oder per E-Mail an frank.trzeziak@castrop-rauxel.de.\\n\\nMehr Infos: https://casnews.de/kalender_detail.cfm?id=31
LOCATION:Treffpunkt Vielfalt\, Bodelschwingher Str. 35
URL:https://casnews.de/kalender_detail.cfm?id=31
STATUS:CONFIRMED
ORGANIZER;CN=CASNews:MAILTO:info@casnews.de
END:VEVENT
END:VCALENDAR